BEGIN:VCALENDAR
VERSION:2.0
PRODID:-//JayceLand - ECPv6.15.20//NONSGML v1.0//EN
CALSCALE:GREGORIAN
METHOD:PUBLISH
X-ORIGINAL-URL:https://jayceland.com/blog
X-WR-CALDESC:Events for JayceLand
REFRESH-INTERVAL;VALUE=DURATION:PT1H
X-Robots-Tag:noindex
X-PUBLISHED-TTL:PT1H
BEGIN:VTIMEZONE
TZID:America/New_York
BEGIN:DAYLIGHT
TZOFFSETFROM:-0500
TZOFFSETTO:-0400
TZNAME:EDT
DTSTART:20140309T070000
END:DAYLIGHT
BEGIN:STANDARD
TZOFFSETFROM:-0400
TZOFFSETTO:-0500
TZNAME:EST
DTSTART:20141102T060000
END:STANDARD
BEGIN:DAYLIGHT
TZOFFSETFROM:-0500
TZOFFSETTO:-0400
TZNAME:EDT
DTSTART:20150308T070000
END:DAYLIGHT
BEGIN:STANDARD
TZOFFSETFROM:-0400
TZOFFSETTO:-0500
TZNAME:EST
DTSTART:20151101T060000
END:STANDARD
BEGIN:DAYLIGHT
TZOFFSETFROM:-0500
TZOFFSETTO:-0400
TZNAME:EDT
DTSTART:20160313T070000
END:DAYLIGHT
BEGIN:STANDARD
TZOFFSETFROM:-0400
TZOFFSETTO:-0500
TZNAME:EST
DTSTART:20161106T060000
END:STANDARD
END:VTIMEZONE
BEGIN:VEVENT
DTSTART;TZID=America/New_York:20150521T173000
DTEND;TZID=America/New_York:20150521T193000
DTSTAMP:20260423T122258
CREATED:20150520T113432Z
LAST-MODIFIED:20150520T113432Z
UID:4667-1432229400-1432236600@jayceland.com
SUMMARY:Laura Dubin and Antonio Guerrero
DESCRIPTION:Seriously focused upon composing and arranging since 2008\, Laura has created more than 40 pieces for solo piano as well as small and large ensembles\, citing Horace Silver\, Dave Brubeck\, Fred Hersch and Claude Debussy among her deepest influences. As a player\, she names Peterson\, Hersch\, Charlie Parker\, Bill Evans\, Red Garland\, Vince Guaraldi and Wynton Kelly among her models. In November 2013\, Laura released her first CD\, Introducing the Laura Dubin Trio featuring Antonio and bassist Sam Weber performing 10 of her original compositions. Laura will be relocating to Rochester in March 2014. \n [source: Bop Shop website\, 2015-May-18]
URL:https://jayceland.com/blog/event/laura-dubin-and-antonio-guerrero/
LOCATION:Bop Shop Records\, 1460 Monroe Ave.\, Rochester\, New York\, 14618\, United States
CATEGORIES:JayceLand 2015-May-21
END:VEVENT
BEGIN:VEVENT
DTSTART;TZID=America/New_York:20150521T180000
DTEND;TZID=America/New_York:20150521T190000
DTSTAMP:20260423T122258
CREATED:20150520T113434Z
LAST-MODIFIED:20150520T113434Z
UID:4678-1432231200-1432234800@jayceland.com
SUMMARY:Artist's Talk: Rachel Sussman
DESCRIPTION:Tonight at 6 p.m. in the Dryden Theatre is an Artist's Talk with Rachel Sussman on her work in the In the Garden show.  \nIn this special edition of our photography lecture series\, Wish You Were Here\, Rachel Sussman will discuss her work on view in In the Garden and her series The Oldest Living Things in the World.  Sussman's photographs of the world's varied geographies explore questions about nature\, humanity\, and time. Critic Jerry Saltz says of her work: "These stately pictures quiet the soul . . . Sussman brings you to the place where science\, beauty\, and eternity meet." \n [source: Eastman House calendar\, 2015-May-18]
URL:https://jayceland.com/blog/event/artists-talk-rachel-sussman/
LOCATION:Dryden Theatre at George Eastman House\, 900 East Ave.\, Rochester\, New York\, 14607\, United States
CATEGORIES:JayceLand 2015-May-21
END:VEVENT
BEGIN:VEVENT
DTSTART;TZID=America/New_York:20150521T193000
DTEND;TZID=America/New_York:20150521T213000
DTSTAMP:20260423T122258
CREATED:20150520T113436Z
LAST-MODIFIED:20150520T113436Z
UID:4685-1432236600-1432243800@jayceland.com
SUMMARY:Gordon Brown\, 50 Things that Photoshop Learned from the Darkroom
DESCRIPTION:The Photographic Historical Society (TPHS) meets tonight at 7:30 p.m. in Barnes and Noble. Tonight\, Gordon Brown will discuss 50 Things that Photoshop Learned from the Darkroom.  \nFor people familiar with digital editing programs\, Gordon Brown will describe how digital photo-editing programs such as Photoshop depended upon—and were built upon—the conventional historical techniques used in the darkroom. Using an easy-to-understand Powerpoint slideshow\, Gordon will demonstrate how digital photography techniques evolved from the conventional darkroom techniques. Attendees will also learn how Photoshop improved upon traditional processes and added features that would be difficult\, if not impossible\, to do in the darkroom. \n [source: Facebook\, 2015-May-18]
URL:https://jayceland.com/blog/event/gordon-brown-50-things-that-photoshop-learned-from-the-darkroom/
LOCATION:Barnes and Noble\, 3349 Monroe Ave.\, Pittsford\, New York\, 14618\, United States
CATEGORIES:JayceLand 2015-May-21
END:VEVENT
BEGIN:VEVENT
DTSTART;TZID=America/New_York:20150521T200000
DTEND;TZID=America/New_York:20150521T212800
DTSTAMP:20260423T122258
CREATED:20150520T113434Z
LAST-MODIFIED:20150520T113434Z
UID:4679-1432238400-1432243680@jayceland.com
SUMMARY:Love Is Colder than Death screening
DESCRIPTION:Tonight at 8 p.m.\, the Dryden will screen Liebe ist kÃ¤lter als der Tod (Love Is Colder than Death\, R. W. Fassbinder\, West Germany 1969\, 88 min.\, 35mm\, German w/subtitles).  \nFassbinder himself plays small-time pimp\, Franz\, in this film that could seem more indebted to the nouvelle vague than to Douglas Sirk or Bertolt Brecht. While ostensibly a gangster film\, Love Is Colder than Death really concerns a complex love triangle\, between Franz\, his prostitute girlfriend\, Joanna (Hanna Schygulla)\, and Bruno (Ulli Lommel)\, the member of a crime syndicate that Franz refuses to join. While Fassbinder's film does have much in common with a French New Wave work such as Jean-Luc Godard's Breathless (1959)\, it shares little of the latter's carefree exuberance. Ultimately foregrounded here is a bleak precision and sense of alienation that would go on to characterize Fassbinder's work as a whole. Love Is Colder than Death was Fassbinder's first feature film\, and the first installment in what he loosely conceived as a gangster trilogy\, which the Dryden will screen in its entirety (see also Saturday\, May 23\, and Thursday\, May 28). \n [source: Dryden website\, 2015-May-18]
URL:https://jayceland.com/blog/event/love-is-colder-than-death-screening/
LOCATION:Dryden Theatre at George Eastman House\, 900 East Ave.\, Rochester\, New York\, 14607\, United States
CATEGORIES:JayceLand 2015-May-21
END:VEVENT
END:VCALENDAR