BEGIN:VCALENDAR
VERSION:2.0
PRODID:-//JayceLand - ECPv6.15.20//NONSGML v1.0//EN
CALSCALE:GREGORIAN
METHOD:PUBLISH
X-WR-CALNAME:JayceLand
X-ORIGINAL-URL:https://jayceland.com/blog
X-WR-CALDESC:Events for JayceLand
REFRESH-INTERVAL;VALUE=DURATION:PT1H
X-Robots-Tag:noindex
X-PUBLISHED-TTL:PT1H
BEGIN:VTIMEZONE
TZID:America/New_York
BEGIN:DAYLIGHT
TZOFFSETFROM:-0500
TZOFFSETTO:-0400
TZNAME:EDT
DTSTART:20140309T070000
END:DAYLIGHT
BEGIN:STANDARD
TZOFFSETFROM:-0400
TZOFFSETTO:-0500
TZNAME:EST
DTSTART:20141102T060000
END:STANDARD
BEGIN:DAYLIGHT
TZOFFSETFROM:-0500
TZOFFSETTO:-0400
TZNAME:EDT
DTSTART:20150308T070000
END:DAYLIGHT
BEGIN:STANDARD
TZOFFSETFROM:-0400
TZOFFSETTO:-0500
TZNAME:EST
DTSTART:20151101T060000
END:STANDARD
BEGIN:DAYLIGHT
TZOFFSETFROM:-0500
TZOFFSETTO:-0400
TZNAME:EDT
DTSTART:20160313T070000
END:DAYLIGHT
BEGIN:STANDARD
TZOFFSETFROM:-0400
TZOFFSETTO:-0500
TZNAME:EST
DTSTART:20161106T060000
END:STANDARD
END:VTIMEZONE
BEGIN:VEVENT
DTSTART;TZID=America/New_York:20150511T133000
DTEND;TZID=America/New_York:20150511T152900
DTSTAMP:20260420T002341
CREATED:20150505T132542Z
LAST-MODIFIED:20150505T132542Z
UID:4581-1431351000-1431358140@jayceland.com
SUMMARY:Citizen Kane screening (2015-May-11 @ 1:30 p.m.)
DESCRIPTION:Today at 1:30 p.m.\, the Dryden will screen Citizen Kane (Orson Welles\, U.S. 1941\, 119 min.\, 35mm) for the Senior Matinee.  \nOrson Welles\, born 100 years ago today [sic]\, stars as Charles Foster Kane in his classic first feature\, a thinly disguised interpretation of the life of newspaper magnate William Randolph Hearst. The 25-year-old director took complete advantage of the freedom given to him by RKO Studios\, breaking narrative and visual conventions while blazing new paths along the way. Welles also won an Academy Award for his screenplay\, an honor shared with Herman J. Mankiewicz. Kane is still influencing filmmakers to this day\, and is considered by many critics and audiences to be the greatest film ever made. \n [source: Dryden website\, 2015-May-4]
URL:https://jayceland.com/blog/event/citizen-kane-screening-2015-may-11-130-p-m/
LOCATION:Dryden Theatre at George Eastman House\, 900 East Ave.\, Rochester\, New York\, 14607\, United States
CATEGORIES:JayceLand 2015-May-7
END:VEVENT
BEGIN:VEVENT
DTSTART;TZID=America/New_York:20150511T180000
DTEND;TZID=America/New_York:20150511T200000
DTSTAMP:20260420T002341
CREATED:20150505T132539Z
LAST-MODIFIED:20150505T132539Z
UID:4563-1431367200-1431374400@jayceland.com
SUMMARY:Rochester City School District—All City Concert
DESCRIPTION:From 6 p.m. to 8 p.m. in Kodak Hall at Eastman Theatre is the Rochester City School District—All City Concert featuring "performances from the following ensembles from the Rochester City School District":  \n\nFoundation Orchestra\nCommencement Orchestra\nFoundation Band\nCommencement Band\nFoundation Chorus\nCommencement Chorus\nJazz Band\n\n [source: Eastman School of Music calendar\, 2015-May-4]
URL:https://jayceland.com/blog/event/rochester-city-school-district-all-city-concert/
LOCATION:Kodak Hall at Eastman Theatre\, 60 Gibbs St.\, Rochester\, New York\, 14604\, United States
CATEGORIES:JayceLand 2015-May-7
END:VEVENT
BEGIN:VEVENT
DTSTART;TZID=America/New_York:20150511T193000
DTEND;TZID=America/New_York:20150511T213000
DTSTAMP:20260420T002341
CREATED:20150505T132541Z
LAST-MODIFIED:20150505T132541Z
UID:4574-1431372600-1431379800@jayceland.com
SUMMARY:Breakfast with Elvis performance
DESCRIPTION:So Michael Jackson invites you for a sleepover: John Lennon wants to meet you at the corner pub; you run into Jackson Pollock buying house paint; Marie Curie is having a bad day in the lab and needs your help. Or if you're really lucky\, you're invited to Graceland for breakfast. What do you do? What do you say?  "Breakfast with Elvis" will give you the blueprint. Short plays about imaginary encounters with famous people by some of our most delightful playwrights will be presented at the MuCCC Theater on May 11th at 7:30 PM. \n [source: MuCCC website\, 2015-May-4]
URL:https://jayceland.com/blog/event/breakfast-with-elvis-performance/
LOCATION:MuCCC (Multi-use Community Cultural Center)\, 142 Atlantic Ave.\, Rochester\, New York\, 14607\, United States
CATEGORIES:JayceLand 2015-May-7
END:VEVENT
END:VCALENDAR