BEGIN:VCALENDAR
VERSION:2.0
PRODID:-//JayceLand - ECPv6.15.20//NONSGML v1.0//EN
CALSCALE:GREGORIAN
METHOD:PUBLISH
X-WR-CALNAME:JayceLand
X-ORIGINAL-URL:https://jayceland.com/blog
X-WR-CALDESC:Events for JayceLand
REFRESH-INTERVAL;VALUE=DURATION:PT1H
X-Robots-Tag:noindex
X-PUBLISHED-TTL:PT1H
BEGIN:VTIMEZONE
TZID:America/New_York
BEGIN:DAYLIGHT
TZOFFSETFROM:-0500
TZOFFSETTO:-0400
TZNAME:EDT
DTSTART:20140309T070000
END:DAYLIGHT
BEGIN:STANDARD
TZOFFSETFROM:-0400
TZOFFSETTO:-0500
TZNAME:EST
DTSTART:20141102T060000
END:STANDARD
BEGIN:DAYLIGHT
TZOFFSETFROM:-0500
TZOFFSETTO:-0400
TZNAME:EDT
DTSTART:20150308T070000
END:DAYLIGHT
BEGIN:STANDARD
TZOFFSETFROM:-0400
TZOFFSETTO:-0500
TZNAME:EST
DTSTART:20151101T060000
END:STANDARD
BEGIN:DAYLIGHT
TZOFFSETFROM:-0500
TZOFFSETTO:-0400
TZNAME:EDT
DTSTART:20160313T070000
END:DAYLIGHT
BEGIN:STANDARD
TZOFFSETFROM:-0400
TZOFFSETTO:-0500
TZNAME:EST
DTSTART:20161106T060000
END:STANDARD
END:VTIMEZONE
BEGIN:VEVENT
DTSTART;TZID=America/New_York:20150505T121200
DTEND;TZID=America/New_York:20150505T125200
DTSTAMP:20260422T234121
CREATED:20150427T135642Z
LAST-MODIFIED:20150427T135642Z
UID:4483-1430827920-1430830320@jayceland.com
SUMMARY:Books Sandwiched-In
DESCRIPTION:Today from 12:12 p.m. to 12:52 p.m. in the Kate Gleason Auditorium of the Bausch and Lomb Library Building is a Books Sandwiched-In discussion of Let Me Be Frank with You: A Frank Bascombe Book by Richard Ford. [source: Monroe County Library website\, 2015-Apr-27]
URL:https://jayceland.com/blog/event/books-sandwiched-in/
LOCATION:Bausch and Lomb Library Building\, 110 South Ave.\, Rochester\, New York\, 14604\, United States
CATEGORIES:JayceLand 2015-Apr-30
END:VEVENT
BEGIN:VEVENT
DTSTART;TZID=America/New_York:20150505T170000
DTEND;TZID=America/New_York:20150505T183000
DTSTAMP:20260422T234121
CREATED:20150427T135645Z
LAST-MODIFIED:20150427T135645Z
UID:4489-1430845200-1430850600@jayceland.com
SUMMARY:Sharing Nonviolence with Youth: A Skill Share with Gandhi Institute Staff
DESCRIPTION:We're excited to be in dialogue with people in the Los Angeles school district who are interested in how Gandhi Institute staff share nonviolence with youth. We have co-created this virtual conversation to share ideas with them and we invite you to be part of the conversation. Join Gandhi staff members Kit Miller\, Shannon Richmond\, Malik Thompson\, Spero Michailidis\, Yahoda Miller\, and David Sanchez for learning and inspiration. \n [source: Gandhi Inistitute website\, 2015-Apr-27]
URL:https://jayceland.com/blog/event/sharing-nonviolence-with-youth-a-skill-share-with-gandhi-institute-staff/
LOCATION:Gandhi Institute (M.K. Gandhi Institute for Nonviolence)\, 929 S. Plymouth Ave.\, Rochester\, New York\, 14608\, United States
CATEGORIES:JayceLand 2015-Apr-30
END:VEVENT
BEGIN:VEVENT
DTSTART;TZID=America/New_York:20150505T190000
DTEND;TZID=America/New_York:20150505T194000
DTSTAMP:20260422T234121
CREATED:20150427T135647Z
LAST-MODIFIED:20150427T135647Z
UID:4498-1430852400-1430854800@jayceland.com
SUMMARY:Poster Girl screening
DESCRIPTION:Starting at 6 p.m. is an Art Preview of Imagine at the Memorial Art Gallery followed by a screening of Poster Girl (Sara Nesson\, U.S. 2010\, 38 min.) at 7 p.m. along with a Q&A with documentary subject Robynn Murray\, and Leslie Werlin.  \nThis Academy Award-nominated film follows Robynn Murray\, a cheerleader turned machine gunner during the Iraq War\, as she returns home to face a different kind of battle\, with art her new weapon. \n [source: The Reel Mind Theatre and Film Series website\, 2015-Apr-27]
URL:https://jayceland.com/blog/event/poster-girl-screening/
LOCATION:Memorial Art Gallery\, 500 University Ave.\, Rochester\, New York\, 14607\, United States
CATEGORIES:JayceLand 2015-Apr-30
END:VEVENT
BEGIN:VEVENT
DTSTART;TZID=America/New_York:20150505T190000
DTEND;TZID=America/New_York:20150505T204800
DTSTAMP:20260422T234121
CREATED:20150430T155141Z
LAST-MODIFIED:20150430T155141Z
UID:4537-1430852400-1430858880@jayceland.com
SUMMARY:Effie Gray screening (2015-May-5 @ 7 p.m.)
DESCRIPTION:The first double-feature feature at the Cinema is Effie Gray (Richard Laxton\, U.K. 2014\, 108 min.) "A look at the scandalous love triangle between Victorian art critic John Ruskin\, his teenage bride Effie Gray\, and Pre-Raphaelite painter John Everett Millais." [source: Cinema coming soon page\, 2015-Apr-30]
URL:https://jayceland.com/blog/event/effie-gray-screening-2015-may-5-7-p-m/
LOCATION:Cinema Theatre\, 957 S. Clinton Ave.\, Rochester\, New York\, 14620\, United States
CATEGORIES:JayceLand 2015-Apr-30
END:VEVENT
BEGIN:VEVENT
DTSTART;TZID=America/New_York:20150505T190000
DTEND;TZID=America/New_York:20150505T210000
DTSTAMP:20260422T234121
CREATED:20150427T135652Z
LAST-MODIFIED:20150427T135652Z
UID:4517-1430852400-1430859600@jayceland.com
SUMMARY:Terrapin Flyer Concert
DESCRIPTION:In the Hart Theater at the JCC starting at 7 p.m. is a Terrapin Flyer Concert.  \nLegendary organist Melvin Seals (Jerry Garcia Band) and guitarist Mark Karan (Ratdog and The Other Ones)\, with Terrapin Flyer\, bring their live show to the JCC Hart Theater. Performing music of The Grateful Dead and Jerry Garcia Band\, (as well as some other interesting covers)\, these powerhouse talents have been delighting legions of deadheads and classic rock fans across the nation. \n [source: RocWiki events\, 2015-Apr-27]
URL:https://jayceland.com/blog/event/terrapin-flyer-concert/
LOCATION:Jewish Community Center (JCC)\, 1200 Edgewood Ave.\, Rochester\, New York\, 14618\, United States
CATEGORIES:JayceLand 2015-Apr-30
END:VEVENT
BEGIN:VEVENT
DTSTART;TZID=America/New_York:20150505T200000
DTEND;TZID=America/New_York:20150505T221300
DTSTAMP:20260422T234121
CREATED:20150427T135651Z
LAST-MODIFIED:20150427T135651Z
UID:4515-1430856000-1430863980@jayceland.com
SUMMARY:One Flew Over the Cuckoo's Nest screening
DESCRIPTION:The Dryden will screen One Flew Over the Cuckoo's Nest (MiloÅ¡ Forman\, U.S. 1975\, 133 min.\, 35mm) tonight at 8 p.m.  \nBefore emerging as one of the defining American actors of the late 20th century\, Michael Douglas produced this Academy Award—winning screen adaptation of Ken Kesey's 1962 novel about life inside a mental institution. Jack Nicholson stars as the witty con man who finagles his way out of his prison work detail by convincing the guards that he is insane. His plan goes awry\, however\, when he meets Nurse Ratched (Louise Fletcher)\, whose chilling self-righteousness drives her charges into submission. \n [source: Dryden website\, 2015-Apr-27]
URL:https://jayceland.com/blog/event/one-flew-over-the-cuckoos-nest-screening/
LOCATION:Dryden Theatre at George Eastman House\, 900 East Ave.\, Rochester\, New York\, 14607\, United States
CATEGORIES:JayceLand 2015-Apr-30
END:VEVENT
BEGIN:VEVENT
DTSTART;TZID=America/New_York:20150505T205000
DTEND;TZID=America/New_York:20150505T222900
DTSTAMP:20260422T234121
CREATED:20150430T155142Z
LAST-MODIFIED:20150430T155142Z
UID:4542-1430859000-1430864940@jayceland.com
SUMMARY:True Story screening (2015-May-5 @ 8:50 p.m.)
DESCRIPTION:The second double-feature feature at the Cinema is True Story (Rupert Goold\, U.S. 2015\, 99 min.) "When disgraced New York Times reporter Michael Finkel meets accused killer Christian Longo – who has taken on Finkel's identity – his investigation morphs into a game of cat-and-mouse." [source: Cinema coming soon page\, 2015-Apr-30]
URL:https://jayceland.com/blog/event/true-story-screening-2015-may-5-850-p-m/
LOCATION:Cinema Theatre\, 957 S. Clinton Ave.\, Rochester\, New York\, 14620\, United States
CATEGORIES:JayceLand 2015-Apr-30
END:VEVENT
BEGIN:VEVENT
DTSTART;TZID=America/New_York:20150505T210000
DTEND;TZID=America/New_York:20150506T000000
DTSTAMP:20260422T234121
CREATED:20150427T135639Z
LAST-MODIFIED:20150427T135639Z
UID:4473-1430859600-1430870400@jayceland.com
SUMMARY:Six Organs of Admittance\, Elisa Ambrogio\, Pengo
DESCRIPTION:Six Organs of Admittance\, Elisa Ambrogio\, and something like semi-melodic fast-paced noise from Pengo will be at the Bug Jar starting around 9 p.m. [source: Bug Jar calendar\, 2015-Apr-27]
URL:https://jayceland.com/blog/event/six-organs-of-admittance-elisa-ambrogio-pengo/
LOCATION:Bug Jar\, 219 Monroe Ave\, Rochester\, New York\, 14607\, United States
CATEGORIES:JayceLand 2015-Apr-30
END:VEVENT
END:VCALENDAR