BEGIN:VCALENDAR
VERSION:2.0
PRODID:-//JayceLand - ECPv6.15.20//NONSGML v1.0//EN
CALSCALE:GREGORIAN
METHOD:PUBLISH
X-ORIGINAL-URL:https://jayceland.com/blog
X-WR-CALDESC:Events for JayceLand
REFRESH-INTERVAL;VALUE=DURATION:PT1H
X-Robots-Tag:noindex
X-PUBLISHED-TTL:PT1H
BEGIN:VTIMEZONE
TZID:America/New_York
BEGIN:DAYLIGHT
TZOFFSETFROM:-0500
TZOFFSETTO:-0400
TZNAME:EDT
DTSTART:20140309T070000
END:DAYLIGHT
BEGIN:STANDARD
TZOFFSETFROM:-0400
TZOFFSETTO:-0500
TZNAME:EST
DTSTART:20141102T060000
END:STANDARD
BEGIN:DAYLIGHT
TZOFFSETFROM:-0500
TZOFFSETTO:-0400
TZNAME:EDT
DTSTART:20150308T070000
END:DAYLIGHT
BEGIN:STANDARD
TZOFFSETFROM:-0400
TZOFFSETTO:-0500
TZNAME:EST
DTSTART:20151101T060000
END:STANDARD
BEGIN:DAYLIGHT
TZOFFSETFROM:-0500
TZOFFSETTO:-0400
TZNAME:EDT
DTSTART:20160313T070000
END:DAYLIGHT
BEGIN:STANDARD
TZOFFSETFROM:-0400
TZOFFSETTO:-0500
TZNAME:EST
DTSTART:20161106T060000
END:STANDARD
END:VTIMEZONE
BEGIN:VEVENT
DTSTART;TZID=America/New_York:20150421T121200
DTEND;TZID=America/New_York:20150421T125200
DTSTAMP:20260422T142449
CREATED:20150414T073346Z
LAST-MODIFIED:20150414T073346Z
UID:4317-1429618320-1429620720@jayceland.com
SUMMARY:Books Sandwiched-In\, Life in Motion: An Unlikely Ballerina by Misty Copeland
DESCRIPTION:Today from 12:12 p.m. to 12:52 p.m. in the Kate Gleason Auditorium of the Bausch and Lomb Library Building is another Books Sandwiched-In discussing Life in Motion: An Unlikely Ballerina by Misty Copeland. [source: Monroe County Library website\, 2015-Apr-13]
URL:https://jayceland.com/blog/event/books-sandwiched-in-life-in-motion-an-unlikely-ballerina-by-misty-copeland/
LOCATION:Bausch and Lomb Library Building\, 110 South Ave.\, Rochester\, New York\, 14604\, United States
CATEGORIES:JayceLand 2015-Apr-16
END:VEVENT
BEGIN:VEVENT
DTSTART;TZID=America/New_York:20150421T160000
DTEND;TZID=America/New_York:20150421T190000
DTSTAMP:20260422T142449
CREATED:20150414T073346Z
LAST-MODIFIED:20150414T073346Z
UID:4318-1429632000-1429642800@jayceland.com
SUMMARY:Genesee Valley Park West Master Plan & Brooks Landing II Improvements Open House
DESCRIPTION:This afternoon at the Genesee Waterways Center is a Genesee Valley Park West Master Plan & Brooks Landing II Improvements Open House from 4 p.m. to 7 p.m.  \nThe City and its landscape architects invite you to this open house and offer feedback for the ongoing reprogramming and redesign of Genesee Valley Park West and Brooks Landing. Come at your convenience. The design teams and City staff can explain the projects\, answer questions\, and record feedback. \n [source: Facebook\, 2015-Apr-13]
URL:https://jayceland.com/blog/event/genesee-valley-park-west-master-plan-brooks-landing-ii-improvements-open-house/
LOCATION:Genesee Waterways Center\, 149 Elmwood Ave.\, Rochester\, New York\, 14620\, United States
CATEGORIES:JayceLand 2015-Apr-16
END:VEVENT
BEGIN:VEVENT
DTSTART;TZID=America/New_York:20150421T183000
DTEND;TZID=America/New_York:20150421T203000
DTSTAMP:20260422T142449
CREATED:20150414T073347Z
LAST-MODIFIED:20150414T073347Z
UID:4319-1429641000-1429648200@jayceland.com
SUMMARY:17th Annual Environmental Forum with Dr. James Hansen
DESCRIPTION:From 6:30 p.m. to 8:30 p.m. in the MCC Theater is the 17th Annual Environmental Forum with "world-famous climate scientist" Dr. James Hansen. [source: Color Brighton Green website\, 2015-Apr-13]
URL:https://jayceland.com/blog/event/17th-annual-environmental-forum-with-dr-james-hansen/
LOCATION:MCC Theater\, 1000 E. Henrietta Rd. Building 4\, Rochester\, New York\, 14623\, United States
CATEGORIES:JayceLand 2015-Apr-16
END:VEVENT
BEGIN:VEVENT
DTSTART;TZID=America/New_York:20150421T190000
DTEND;TZID=America/New_York:20150421T210000
DTSTAMP:20260422T142449
CREATED:20150414T073347Z
LAST-MODIFIED:20150414T073347Z
UID:4320-1429642800-1429650000@jayceland.com
SUMMARY:Anonymous and the Web: Platforms\, Politics and Publics
DESCRIPTION:At 7 p.m. in Carlson Auditorium at RIT is Anonymous and the Web: Platforms\, Politics and Publics with Gabriella Coleman.  \nAn evening with anthropologist Gabriella Coleman (author of Hacker\, Hoaxer\, Whistleblower\, Spy: The Many Faces of Anonymous)\, in conversation with writer/filmmaker Astra Tayler (author of The People's Platform: Taking Back Power and Culture in the Digital Age). \n [source: Facebook\, 2015-Apr-13]
URL:https://jayceland.com/blog/event/anonymous-and-the-web-platforms-politics-and-publics/
LOCATION:Carlson Auditorium at RIT\, 76 Lomb Memorial Dr\, Rochester\, New York\, 14623\, United States
CATEGORIES:JayceLand 2015-Apr-16
END:VEVENT
BEGIN:VEVENT
DTSTART;TZID=America/New_York:20150421T200000
DTEND;TZID=America/New_York:20150421T221300
DTSTAMP:20260422T142449
CREATED:20150414T073347Z
LAST-MODIFIED:20150414T073347Z
UID:4321-1429646400-1429654380@jayceland.com
SUMMARY:Die Büchse der Pandora (Pandora's Box)
DESCRIPTION:Tonight at 8 p.m.\, the Dryden will screen Die Büchse der Pandora (Pandora's Box\, Georg Wilhelm Pabst\, Germany 1929\, 133 min.\, 35mm) with live piano accompaniment by Philip C. Carli.  \nFor James Card\, there was only one Louise Brooks. The cineaste referred to his lifelong infatuation as an emotional devotion that had begun at the age of 14\, calling Brooks an inadvertent femme fatale who could in no way be coquettish or even deliberately seductive—ideal for the role of Lulu in Pandora's Box\, heroine of Frank Wedekind's beloved German plays. An innocently immoral sexual predator\, Lulu discards and destroys men as she tries to get ahead\, until she meets Jack the Ripper. The steamy story is a tangled web of intrigue and deception—the camera work\, sets\, and direction brilliantly economical\, powerfully simple. \n [source: Dryden website\, 2015-Apr-13]
URL:https://jayceland.com/blog/event/die-bchse-der-pandora-pandoras-box/
LOCATION:Dryden Theatre at George Eastman House\, 900 East Ave.\, Rochester\, New York\, 14607\, United States
CATEGORIES:JayceLand 2015-Apr-16
END:VEVENT
END:VCALENDAR