BEGIN:VCALENDAR
VERSION:2.0
PRODID:-//JayceLand - ECPv6.15.20//NONSGML v1.0//EN
CALSCALE:GREGORIAN
METHOD:PUBLISH
X-WR-CALNAME:JayceLand
X-ORIGINAL-URL:https://jayceland.com/blog
X-WR-CALDESC:Events for JayceLand
REFRESH-INTERVAL;VALUE=DURATION:PT1H
X-Robots-Tag:noindex
X-PUBLISHED-TTL:PT1H
BEGIN:VTIMEZONE
TZID:America/New_York
BEGIN:DAYLIGHT
TZOFFSETFROM:-0500
TZOFFSETTO:-0400
TZNAME:EDT
DTSTART:20140309T070000
END:DAYLIGHT
BEGIN:STANDARD
TZOFFSETFROM:-0400
TZOFFSETTO:-0500
TZNAME:EST
DTSTART:20141102T060000
END:STANDARD
BEGIN:DAYLIGHT
TZOFFSETFROM:-0500
TZOFFSETTO:-0400
TZNAME:EDT
DTSTART:20150308T070000
END:DAYLIGHT
BEGIN:STANDARD
TZOFFSETFROM:-0400
TZOFFSETTO:-0500
TZNAME:EST
DTSTART:20151101T060000
END:STANDARD
BEGIN:DAYLIGHT
TZOFFSETFROM:-0500
TZOFFSETTO:-0400
TZNAME:EDT
DTSTART:20160313T070000
END:DAYLIGHT
BEGIN:STANDARD
TZOFFSETFROM:-0400
TZOFFSETTO:-0500
TZNAME:EST
DTSTART:20161106T060000
END:STANDARD
END:VTIMEZONE
BEGIN:VEVENT
DTSTART;TZID=America/New_York:20150417T180000
DTEND;TZID=America/New_York:20150417T210000
DTSTAMP:20260420T042230
CREATED:20150414T073342Z
LAST-MODIFIED:20150414T073342Z
UID:4287-1429293600-1429304400@jayceland.com
SUMMARY:Postcard Snapshot Contest organized by Julia Wenz and Peter Franck
DESCRIPTION:You are invited to participate in an international postcard competition on the topic of "the snapshot". The winner of the contest will have their postcard image as part of an exhibition in 2015 in Stuttgart-Wangen\, Germany\, a double page in the exhibition catalogue\, and will receive 500 postcards. The "snapshot" can be interpreted any way you choose. To participate in the contest\, bring (in person) a postcard-sized print (4×6) to Visual Studies Workshop on Friday\, April 17th from 6p-9p. You will have a chance to meet the organizers and submit your postcard. Make sure that your name\, address and e-mail is on the back of the print. \n [source: Visual Studies Workshop website\, 2015-Apr-13]
URL:https://jayceland.com/blog/event/postcard-snapshot-contest-organized-by-julia-wenz-and-peter-franck/
LOCATION:Visual Studies Workshop\, 31 Prince St.\, Rochester\, New York\, 14607\, United States
CATEGORIES:JayceLand 2015-Apr-16
END:VEVENT
BEGIN:VEVENT
DTSTART;TZID=America/New_York:20150417T180000
DTEND;TZID=America/New_York:20150417T210000
DTSTAMP:20260420T042230
CREATED:20150414T073342Z
LAST-MODIFIED:20150414T073342Z
UID:4288-1429293600-1429304400@jayceland.com
SUMMARY:Phases and Passings\, MFA Thesis Show of John Barnabas Lake
DESCRIPTION:Phases and Passings\, the MFA thesis show of John Barnabas Lake\, explores being human through photography\, installation\, and text. Each piece of art work acts as a meditation\, trying to connect to the viewer parallel and paradoxical considerations of life. Worship\, dreams\, shame\, love\, memory\, and other topics are explored through various materials and photographic processes. Interactivity is encouraged. \n [source: City Newspaper events calendar\, 2015-Apr-13]
URL:https://jayceland.com/blog/event/phases-and-passings-mfa-thesis-show-of-john-barnabas-lake/
LOCATION:Visual Studies Workshop\, 31 Prince St.\, Rochester\, New York\, 14607\, United States
CATEGORIES:JayceLand 2015-Apr-16
END:VEVENT
BEGIN:VEVENT
DTSTART;TZID=America/New_York:20150417T180000
DTEND;TZID=America/New_York:20150417T210000
DTSTAMP:20260420T042230
CREATED:20150414T073342Z
LAST-MODIFIED:20150414T073342Z
UID:4289-1429293600-1429304400@jayceland.com
SUMMARY:Discovering Deaf Worlds 5th Annual Benefit with entertainment by Push Physical Theatre
DESCRIPTION:[source: City Newspaper events calendar\, 2015-Apr-13]
URL:https://jayceland.com/blog/event/discovering-deaf-worlds-5th-annual-benefit-with-entertainment-by-push-physical-theatre/
LOCATION:Harro East Ballroom\, 155 N. Chestnut St.\, Rochester\, New York\, 14604\, United States
CATEGORIES:JayceLand 2015-Apr-16
END:VEVENT
BEGIN:VEVENT
DTSTART;TZID=America/New_York:20150417T190000
DTEND;TZID=America/New_York:20150417T205900
DTSTAMP:20260420T042230
CREATED:20150414T073343Z
LAST-MODIFIED:20150414T073343Z
UID:4291-1429297200-1429304340@jayceland.com
SUMMARY:The Imitation Game
DESCRIPTION:The UofR Cinema Group is screening The Imitation Game (Morten Tyldum\, U.K. / U.S. 2014\, 119 min.) "During World War II\, mathematician Alan Turing tries to crack the enigma code with help from fellow mathematicians." [source: University of Rochester Cinema Group website\, 2015-Apr-13]
URL:https://jayceland.com/blog/event/the-imitation-game/
LOCATION:Hoyt Auditorium\, University of Rochester Campus\, Rochester\, New York\, United States
CATEGORIES:JayceLand 2015-Apr-16
END:VEVENT
BEGIN:VEVENT
DTSTART;TZID=America/New_York:20150417T190000
DTEND;TZID=America/New_York:20150417T210000
DTSTAMP:20260420T042230
CREATED:20150414T022028Z
LAST-MODIFIED:20150414T022028Z
UID:4253-1429297200-1429304400@jayceland.com
SUMMARY:Against Equality: Queer Revolution\, Not Mere Inclusion with Ryan Conrad
DESCRIPTION:Ryan Conrad will discuss his book Against Equality: Queer Revolution\, Not Mere Inclusion.  \nRyan Conrad's multi-media talk focuses on dissecting the three cornerstones of the mainstream gay and lesbian rights movement in the United States: marriage\, military inclusion\, and hate crime legislation—the subjects covered in each section of the recently published anthology Against Equality: Queer Revolution\, Not Mere Inclusion (2014) from AK Press. Beyond discussing the dismally conservative state of queer politics today\, Conrad will also talk about the Against Equality archive he co-founded in 2009 along with Yasmin Nair and its function as a historical anchor for radical queer political thought/imagination in the present and hopefully the future to come. Fellow AE collective members Yasmin Nair and Karma Chàvez will join us by video. \n [source: Facebook\, 2015-Apr-13]
URL:https://jayceland.com/blog/event/against-equality-queer-revolution-not-mere-inclusion-with-ryan-conrad/
LOCATION:Flying Squirrel Community Space\, 285 Clarissa St.\, Rochester\, New York\, 14608\, United States
CATEGORIES:JayceLand 2015-Apr-16
END:VEVENT
BEGIN:VEVENT
DTSTART;TZID=America/New_York:20150417T190000
DTEND;TZID=America/New_York:20150417T210000
DTSTAMP:20260420T042230
CREATED:20150414T073343Z
LAST-MODIFIED:20150414T073343Z
UID:4290-1429297200-1429304400@jayceland.com
SUMMARY:Fast Forward Film Festival Short Films Screening
DESCRIPTION:[source: Fast Forward Film Festival box office site\, 2015-Apr-13]
URL:https://jayceland.com/blog/event/fast-forward-film-festival-short-films-screening/
LOCATION:Little Theatre\, 240 East Ave. #100\, Rochester\, New York\, 14604\, United States
CATEGORIES:JayceLand 2015-Apr-16
END:VEVENT
BEGIN:VEVENT
DTSTART;TZID=America/New_York:20150417T190000
DTEND;TZID=America/New_York:20150417T220000
DTSTAMP:20260420T042230
CREATED:20150415T122432Z
LAST-MODIFIED:20160613T151505Z
UID:4339-1429297200-1429308000@jayceland.com
SUMMARY:First Person Singular: A Live True Storytelling Event
DESCRIPTION:This is a free\, monthly live true storytelling show in the tradition of The Moth and Risk. Any human being can sign up to tell a five minute story from their life. Each month we suggest a prompt to get the first sentence started\, but it's not required to use it. Light refreshments provided but feel free to BYOB. Hosted by Kristen Stewart and Woody Battaglia\, more info on Facebook. \n [source: City Newspaper events calendar\, 2015-Apr-15]
URL:https://jayceland.com/blog/event/first-person-singular-a-live-true-storytelling-event/
LOCATION:Rochester Brainery\, Village Gate\, 274 N. Goodman St. Village Gate Square\, Rochester\, New York\, 14607\, United States
CATEGORIES:JayceLand 2015-Apr-16
ATTACH;FMTTYPE=:
END:VEVENT
BEGIN:VEVENT
DTSTART;TZID=America/New_York:20150417T200000
DTEND;TZID=America/New_York:20150417T213800
DTSTAMP:20260420T042230
CREATED:20150414T073343Z
LAST-MODIFIED:20150414T073343Z
UID:4294-1429300800-1429306680@jayceland.com
SUMMARY:Barbarella
DESCRIPTION:At 8 p.m.\, the Dryden will screen Barbarella (Roger Vadim\, France/Italy 1968\, 98 min.\, 35mm).  \nThe year is 40000\, and positronic ray ("all persons and objects in its path are deminimumized to the 4th level") inventor Dr. Durand Durand has disappeared. Jane Fonda is Barbarella\, a cosmonaut in a capricious skintight space suit\, in charge of bringing Durand Durand home safely. Crash landing on the planet Lythion\, Barbarella meets a whole cast of unfamiliar creatures and contraptions\, from dolls with deadly appetites to a blind angel named Pygar to an "Orgasmatron\," designed to kill with extreme pleasure. And she's not afraid to use her many gifts to defy capture. . . . Adapted from the French comic book of the same name\, this hypersexual psychedelic trip is full of camp\, creativity\, humor\, and beauty. A critical and box office failure upon its release\, Barbarella\, with its emancipated\, ass-kicking\, space-traveling heroine\, and cool\, electronic score\, has since become a cult hit\, embodying the cultural and sexual liberation of the generation that spawned it. \n [source: Dryden website\, 2015-Apr-13]
URL:https://jayceland.com/blog/event/barbarella/
LOCATION:Dryden Theatre at George Eastman House\, 900 East Ave.\, Rochester\, New York\, 14607\, United States
CATEGORIES:JayceLand 2015-Apr-16
END:VEVENT
BEGIN:VEVENT
DTSTART;TZID=America/New_York:20150417T200000
DTEND;TZID=America/New_York:20150417T220000
DTSTAMP:20260420T042230
CREATED:20150414T073343Z
LAST-MODIFIED:20150414T073343Z
UID:4295-1429300800-1429308000@jayceland.com
SUMMARY:Smith and Weeden\, Howlo\, and Landmark
DESCRIPTION:[source: Boulder Coffee calendar\, 2015-Apr-13]
URL:https://jayceland.com/blog/event/smith-and-weeden-howlo-and-landmark/
LOCATION:Boulder Coffee\, South Wedge\, 100 Alexander St.\, Rochester\, New York\, 14620\, United States
CATEGORIES:JayceLand 2015-Apr-16
END:VEVENT
BEGIN:VEVENT
DTSTART;TZID=America/New_York:20150417T211500
DTEND;TZID=America/New_York:20150417T231400
DTSTAMP:20260420T042230
CREATED:20150414T073343Z
LAST-MODIFIED:20150414T073343Z
UID:4292-1429305300-1429312440@jayceland.com
SUMMARY:The Imitation Game
DESCRIPTION:The UofR Cinema Group is screening The Imitation Game (Morten Tyldum\, U.K. / U.S. 2014\, 119 min.) "During World War II\, mathematician Alan Turing tries to crack the enigma code with help from fellow mathematicians." [source: University of Rochester Cinema Group website\, 2015-Apr-13]
URL:https://jayceland.com/blog/event/the-imitation-game-2/
LOCATION:Hoyt Auditorium\, University of Rochester Campus\, Rochester\, New York\, United States
CATEGORIES:JayceLand 2015-Apr-16
END:VEVENT
BEGIN:VEVENT
DTSTART;TZID=America/New_York:20150417T220000
DTEND;TZID=America/New_York:20150418T010000
DTSTAMP:20260420T042230
CREATED:20150414T073343Z
LAST-MODIFIED:20150414T073343Z
UID:4296-1429308000-1429318800@jayceland.com
SUMMARY:5Head
DESCRIPTION:[source: Dinosaur Bar-B-Que website\, 2015-Apr-13]
URL:https://jayceland.com/blog/event/5head/
LOCATION:Dinosaur Bar-B-Que\, 99 Court St.\, Rochester\, New York\, 14604\, United States
CATEGORIES:JayceLand 2015-Apr-16
END:VEVENT
BEGIN:VEVENT
DTSTART;TZID=America/New_York:20150417T233000
DTEND;TZID=America/New_York:20150418T012900
DTSTAMP:20260420T042230
CREATED:20150414T073343Z
LAST-MODIFIED:20150414T073343Z
UID:4293-1429313400-1429320540@jayceland.com
SUMMARY:The Imitation Game
DESCRIPTION:The UofR Cinema Group is screening The Imitation Game (Morten Tyldum\, U.K. / U.S. 2014\, 119 min.) "During World War II\, mathematician Alan Turing tries to crack the enigma code with help from fellow mathematicians." [source: University of Rochester Cinema Group website\, 2015-Apr-13]
URL:https://jayceland.com/blog/event/the-imitation-game-3/
LOCATION:Hoyt Auditorium\, University of Rochester Campus\, Rochester\, New York\, United States
CATEGORIES:JayceLand 2015-Apr-16
END:VEVENT
END:VCALENDAR