BEGIN:VCALENDAR
VERSION:2.0
PRODID:-//JayceLand - ECPv6.15.20//NONSGML v1.0//EN
CALSCALE:GREGORIAN
METHOD:PUBLISH
X-WR-CALNAME:JayceLand
X-ORIGINAL-URL:https://jayceland.com/blog
X-WR-CALDESC:Events for JayceLand
REFRESH-INTERVAL;VALUE=DURATION:PT1H
X-Robots-Tag:noindex
X-PUBLISHED-TTL:PT1H
BEGIN:VTIMEZONE
TZID:America/New_York
BEGIN:DAYLIGHT
TZOFFSETFROM:-0500
TZOFFSETTO:-0400
TZNAME:EDT
DTSTART:20140309T070000
END:DAYLIGHT
BEGIN:STANDARD
TZOFFSETFROM:-0400
TZOFFSETTO:-0500
TZNAME:EST
DTSTART:20141102T060000
END:STANDARD
BEGIN:DAYLIGHT
TZOFFSETFROM:-0500
TZOFFSETTO:-0400
TZNAME:EDT
DTSTART:20150308T070000
END:DAYLIGHT
BEGIN:STANDARD
TZOFFSETFROM:-0400
TZOFFSETTO:-0500
TZNAME:EST
DTSTART:20151101T060000
END:STANDARD
BEGIN:DAYLIGHT
TZOFFSETFROM:-0500
TZOFFSETTO:-0400
TZNAME:EDT
DTSTART:20160313T070000
END:DAYLIGHT
BEGIN:STANDARD
TZOFFSETFROM:-0400
TZOFFSETTO:-0500
TZNAME:EST
DTSTART:20161106T060000
END:STANDARD
END:VTIMEZONE
BEGIN:VEVENT
DTSTART;TZID=America/New_York:20150416T160000
DTEND;TZID=America/New_York:20150416T180000
DTSTAMP:20260425T181834
CREATED:20150414T022027Z
LAST-MODIFIED:20150414T022027Z
UID:4247-1429200000-1429207200@jayceland.com
SUMMARY:Abundance Support Group
DESCRIPTION:Participants study how to practice positive thinking. They learn how to develop life habits that encourage success. These habits include setting goals and learning to manifest. Come and see the possibilities. \n [source: City Newspaper events calendar\, 2015-Apr-13]
URL:https://jayceland.com/blog/event/abundance-support-group/
LOCATION:Books Etc.\, 78 W. Main St.\, Macedon\, New York\, 14502\, United States
CATEGORIES:JayceLand 2015-Apr-16
END:VEVENT
BEGIN:VEVENT
DTSTART;TZID=America/New_York:20150416T173000
DTEND;TZID=America/New_York:20150416T213000
DTSTAMP:20260425T181834
CREATED:20150414T022027Z
LAST-MODIFIED:20150414T022027Z
UID:4248-1429205400-1429219800@jayceland.com
SUMMARY:Connecting the struggles\, building a movement: The new poor people's campaign.
DESCRIPTION:"Connecting the struggles\, building a movement: The new poor people's campaign." is a dialogue with Willie Baptist and members of New York City's Picture the Homeless at The College at Brockport Metrocenter.  \nWillie Baptist – a formerly homeless father – came out of the Watts uprisings\, the Black Student Movement\, and worked as a lead organizer with the United Steelworkers . Baptist has 40 years of experience organizing with poor people\, including such groups as the National Union of the Homeless\, the Kensington Welfare Rights Union\, the National Welfare Rights Union\, the Poor People's Economic Human Rights Campaign\, and many other networks. He is currently the Poverty Initiative Scholar-in-Residence and is the Coordinator of Poverty Scholarship and Leadership Development for the Kairos Center based in New York City. \n [source: Dryden Theatre calendar\, 2015-Apr-13]
URL:https://jayceland.com/blog/event/connecting-the-struggles-building-a-movement-the-new-poor-peoples-campaign/
LOCATION:College at Brockport Metrocenter\, 55 St. Paul St.\, Rochester\, New York\, 14604\, United States
CATEGORIES:JayceLand 2015-Apr-16
END:VEVENT
BEGIN:VEVENT
DTSTART;TZID=America/New_York:20150416T180000
DTEND;TZID=America/New_York:20150416T190000
DTSTAMP:20260425T181834
CREATED:20150414T022027Z
LAST-MODIFIED:20150414T022027Z
UID:4249-1429207200-1429210800@jayceland.com
SUMMARY:Artist's Talk with Aura Satz
DESCRIPTION:Tonight in the Dryden Theatre\, Aura Satz will discuss her work currently on view in Eyelids Leaking Light.  \nSatz's work incorporates film\, sound\, performance\, and sculpture. Her art focuses on the complex intersections between the history\, technology\, and aesthetics of media\, while exploring the ways in which they change the understanding of human perception and agency. Her work reveals aspects of early color film technology that otherwise remain invisible. \n [source: Eastman House calendar\, 2015-Apr-13]
URL:https://jayceland.com/blog/event/artists-talk-with-aura-satz/
LOCATION:Dryden Theatre at George Eastman House\, 900 East Ave.\, Rochester\, New York\, 14607\, United States
CATEGORIES:JayceLand 2015-Apr-16
END:VEVENT
BEGIN:VEVENT
DTSTART;TZID=America/New_York:20150416T180000
DTEND;TZID=America/New_York:20150416T200000
DTSTAMP:20260425T181834
CREATED:20150414T022028Z
LAST-MODIFIED:20150414T022028Z
UID:4250-1429207200-1429214400@jayceland.com
SUMMARY:Turn the Avenue White for a Night
DESCRIPTION:Unaware of the racial overtones of such an event … "Park Avenue businesses will be decked out in white" in a Turn the Avenue White for a Night fundraiser for Trillium Health for programs and services. [source: Facebook\, 2015-Apr-13]
URL:https://jayceland.com/blog/event/turn-the-avenue-white-for-a-night/
LOCATION:Park Ave.\, Rochester\, New York\, United States
CATEGORIES:JayceLand 2015-Apr-16
END:VEVENT
BEGIN:VEVENT
DTSTART;TZID=America/New_York:20150416T183000
DTEND;TZID=America/New_York:20150416T210000
DTSTAMP:20260425T181834
CREATED:20150414T022028Z
LAST-MODIFIED:20150414T022028Z
UID:4251-1429209000-1429218000@jayceland.com
SUMMARY:What You Say Next Can Change Your World
DESCRIPTION:Starting tonight at 6:30 p.m. and continuing Thursdays through May 21 is a A Series in Nonviolent Communication titled What You Say Next Can Change Your World.  \nJoin Gandhi staff Kit Miller and Malik Thompson for six weeks of exploring the philosophy of nonviolence in our thoughts\, speech\, and action using the lens of Nonviolent Communication. Through discussion\, exercises\, games\, and role play\, participants will learn the basics of this process which is taught and used as a means for communication and conflict resolution around the world. \n [source: Gandhi Inistitute website\, 2015-Apr-13]
URL:https://jayceland.com/blog/event/what-you-say-next-can-change-your-world/
LOCATION:Gandhi Institute (M.K. Gandhi Institute for Nonviolence)\, 929 S. Plymouth Ave.\, Rochester\, New York\, 14608\, United States
CATEGORIES:JayceLand 2015-Apr-16
END:VEVENT
BEGIN:VEVENT
DTSTART;TZID=America/New_York:20150416T190000
DTEND;TZID=America/New_York:20150416T200000
DTSTAMP:20260425T181834
CREATED:20150414T022028Z
LAST-MODIFIED:20150414T022028Z
UID:4252-1429210800-1429214400@jayceland.com
SUMMARY:The Holocaust and The Church
DESCRIPTION:Anthony J. Sciolino will discuss his book\, The Holocaust\, the church\, and the law of unintended consequences : how Christian anti-judaism spawned Nazi anti-semitism. "While tens of thousands of Christians risked their lives\, many more —including some members of the church hierarchy— aided Hitler's campaign with their silence or their participation." [source: City Newspaper events calendar\, 2015-Apr-13]
URL:https://jayceland.com/blog/event/the-holocaust-and-the-church/
LOCATION:Wood Library\, 134 N. Main St.\, Canandaigua\, New York\, 14424\, United States
CATEGORIES:JayceLand 2015-Apr-16
END:VEVENT
BEGIN:VEVENT
DTSTART;TZID=America/New_York:20150416T193000
DTEND;TZID=America/New_York:20150416T220000
DTSTAMP:20260425T181834
CREATED:20150414T022028Z
LAST-MODIFIED:20150414T022028Z
UID:4254-1429212600-1429221600@jayceland.com
SUMMARY:Rachel Kushner Lecture
DESCRIPTION:Author Rachel Kushner has been a finalist for the National Book Award twice and is a recipient of a 2013 Guggenheim Fellowship. Her award-winning first novel\, Telex from Cuba\, was a New York Times bestseller and her second novel\, The Flamethrowers\, was named one of the Top Ten Books of 2013 by the New York Times. Novelist Karen Russell said "The Flamethrowers lives up to its incendiary title — it is a brilliant\, startling\, truly revolutionary book…" In addition her fiction and essays appear regularly in the New York Times\, The Paris Review\, The Believer\, Artforum\, Bookforum\, Fence\, Bomb\, and Grand Street. Her novels and essays explore contemporary art\, culture\, revolutionary politics\, modernism\, and feminism. \n [source: Rochester Arts & Lectures series website\, 2015-Apr-13]
URL:https://jayceland.com/blog/event/rachel-kushner-lecture/
LOCATION:Downtown United Presbyterian Church\, 121 N. Fitzhugh St.\, Rochester\, New York\, United States
CATEGORIES:JayceLand 2015-Apr-16
END:VEVENT
BEGIN:VEVENT
DTSTART;TZID=America/New_York:20150416T200000
DTEND;TZID=America/New_York:20150416T211600
DTSTAMP:20260425T181834
CREATED:20150414T022029Z
LAST-MODIFIED:20150414T022029Z
UID:4256-1429214400-1429218960@jayceland.com
SUMMARY:California Company Town
DESCRIPTION:Tonight at 8 p.m.\, the Dryden will screen California Company Town (Lee Anne Schmitt\, U.S. 2008\, 76 min.\, 16mm).  \nThis strikingly shot essay film casts a probing\, clear-eyed gaze at the landscape of California towns abandoned by the industries that created them—onetime boomtowns now haunted by the twilight of the American promise. \n [source: Dryden website\, 2015-Apr-13]
URL:https://jayceland.com/blog/event/california-company-town/
LOCATION:Dryden Theatre at George Eastman House\, 900 East Ave.\, Rochester\, New York\, 14607\, United States
CATEGORIES:JayceLand 2015-Apr-16
END:VEVENT
BEGIN:VEVENT
DTSTART;TZID=America/New_York:20150416T200000
DTEND;TZID=America/New_York:20150416T220000
DTSTAMP:20260425T181834
CREATED:20150414T022029Z
LAST-MODIFIED:20150414T022029Z
UID:4255-1429214400-1429221600@jayceland.com
SUMMARY:OnFilm program with Ben Russell titled The Garden Of Earthly Delights
DESCRIPTION:[source: University of Rochester On Film screenings website\, 2015-Apr-6]
URL:https://jayceland.com/blog/event/onfilm-program-with-ben-russell-titled-the-garden-of-earthly-delights/
LOCATION:Hoyt Auditorium\, University of Rochester Campus\, Rochester\, New York\, United States
CATEGORIES:JayceLand 2015-Apr-16
END:VEVENT
BEGIN:VEVENT
DTSTART;TZID=America/New_York:20150416T203000
DTEND;TZID=America/New_York:20150416T220000
DTSTAMP:20260425T181834
CREATED:20150414T022029Z
LAST-MODIFIED:20150414T022029Z
UID:4257-1429216200-1429221600@jayceland.com
SUMMARY:Brennen Leigh and Noel McKay
DESCRIPTION:[source: Bop Shop website\, 2015-Apr-13]
URL:https://jayceland.com/blog/event/brennen-leigh-and-noel-mckay/
LOCATION:Bop Shop Records\, 1460 Monroe Ave.\, Rochester\, New York\, 14618\, United States
CATEGORIES:JayceLand 2015-Apr-16
END:VEVENT
END:VCALENDAR