BEGIN:VCALENDAR
VERSION:2.0
PRODID:-//JayceLand - ECPv5.4.0//NONSGML v1.0//EN
CALSCALE:GREGORIAN
METHOD:PUBLISH
X-WR-CALNAME:JayceLand
X-ORIGINAL-URL:https://jayceland.com/blog
X-WR-CALDESC:Events for JayceLand
BEGIN:VTIMEZONE
TZID:America/New_York
BEGIN:DAYLIGHT
TZOFFSETFROM:-0500
TZOFFSETTO:-0400
TZNAME:EDT
DTSTART:20170312T070000
END:DAYLIGHT
BEGIN:STANDARD
TZOFFSETFROM:-0400
TZOFFSETTO:-0500
TZNAME:EST
DTSTART:20171105T060000
END:STANDARD
END:VTIMEZONE
BEGIN:VEVENT
DTSTART;TZID=America/New_York:20170505T220000
DTEND;TZID=America/New_York:20170505T233500
DTSTAMP:20210305T060644
CREATED:20170505T142121Z
LAST-MODIFIED:20170505T142121Z
UID:12751-1494021600-1494027300@jayceland.com
SUMMARY:The Bachelor and the Bobby-Soxer screening
DESCRIPTION:The Dryden will screen The Bachelor and the Bobby-Soxer (Irvin Reis\, U.S. 1947\, 95 min.) as part of the Nitrate Picture Show.  \n"We wouldn't be able to tell you whether Sidney Sheldon\, the fellow who wrote The Bachelor and the Bobby-Soxer\, which came to the Music Hall yesterday\, has suffered personal harassment at the hands of modern youth. But whether he has or hasn't\, he certainly understands that dreadful fate. And\, furthermore\, he knows how to make it seem delightfully bewildering on the screen—which may not be wholly consistent but which makes for most agreeable film fare. For\, in The Bachelor and the Bobby-Soxer\, Mr. Sheldon has caught the wry frenzy of a gay\, debonnaire\, indifferent and slightly naughty man-about-town who suddenly finds himself the victim of a fanciful high-school girl's crush—than which no other attachment of a female is more profound. And he has also invented a hilarious sequence of events by which the baffled hero must submit to the willful child's designs. As a consequence—and while the swoony fever is upon the bashless tot— this poor\, victimized bystander is taken for a most amazing ride. . . . And we also must tell you that the texture of Mr. Sheldon's farce is firm and uncloyed with cuteness\, which is just the way it should be\, and that Irving Reis' direction has kept it in that solid shape. In fact\, it is all reminiscent of some of those gay\, galvanic larks that Gregory Lacava and Leo McCarey used to make ten or more years ago. And a higher recommendation we can't give to a light summer show." — Bosley Crowther\, New York Times\, July 25\, 1947 \n [source: George Eastman Museum calendar\, 2017-May-5]
URL:https://jayceland.com/blog/event/the-bachelor-and-the-bobby-soxer-screening/
LOCATION:Dryden Theatre at George Eastman Museum (formerly George Eastman House)\, 900 East Ave.\, Rochester\, New York\, 14607\, United States
CATEGORIES:JayceLand 2017-May-4
END:VEVENT
END:VCALENDAR