BEGIN:VCALENDAR
VERSION:2.0
PRODID:-//JayceLand - ECPv5.4.0//NONSGML v1.0//EN
CALSCALE:GREGORIAN
METHOD:PUBLISH
X-WR-CALNAME:JayceLand
X-ORIGINAL-URL:https://jayceland.com/blog
X-WR-CALDESC:Events for JayceLand
BEGIN:VTIMEZONE
TZID:America/New_York
BEGIN:DAYLIGHT
TZOFFSETFROM:-0500
TZOFFSETTO:-0400
TZNAME:EDT
DTSTART:20170312T070000
END:DAYLIGHT
BEGIN:STANDARD
TZOFFSETFROM:-0400
TZOFFSETTO:-0500
TZNAME:EST
DTSTART:20171105T060000
END:STANDARD
END:VTIMEZONE
BEGIN:VEVENT
DTSTART;TZID=America/New_York:20170508T090000
DTEND;TZID=America/New_York:20170508T120000
DTSTAMP:20210305T060750
CREATED:20170505T142123Z
LAST-MODIFIED:20170505T142123Z
UID:12762-1494234000-1494244800@jayceland.com
SUMMARY:Projection Booth Tours
DESCRIPTION:A gift of the Century Projector Company\, the Century Model C projectors have been installed in the Dryden Theatre since it opened in 1951. These MacHines are "closed head" projectors\, so called because the entire film path from feed magazine to takeup magazine is enclosed. This makes them safer for running nitrate print film.  Other safety features on the projectors include fire rollers or fire valves located between the body of the projector and the film magazines and a fire shutter. The fire rollers help prevent a fire from spreading to the roll of film in either magazine. The fire shutter cuts off the hot beam of light when the projector is either slowed down or stopped\, helping to keep the film from catching fire.  The projectors were originally set up with carbon arc lamphouses\, replaced in 1979 with xenon light sources as carbons were being gradually phased out. The Century projectors' sound reproducers have also been upgraded over the years to ensure the best possible sound from vintage sound tracks.  The projection booth of the Dryden Theatre also includes two Kinoton FP38E projectors for modern prints on 35mm and 16mm stock\, as well as a Barco digital projector. \n [source: Nitrate Picture Show program\, 2017-May-5]
URL:https://jayceland.com/blog/event/projection-booth-tours/
LOCATION:Dryden Theatre at George Eastman Museum (formerly George Eastman House)\, 900 East Ave.\, Rochester\, New York\, 14607\, United States
CATEGORIES:JayceLand 2017-May-4
END:VEVENT
END:VCALENDAR