BEGIN:VCALENDAR
VERSION:2.0
PRODID:-//JayceLand - ECPv5.4.0//NONSGML v1.0//EN
CALSCALE:GREGORIAN
METHOD:PUBLISH
X-WR-CALNAME:JayceLand
X-ORIGINAL-URL:https://jayceland.com/blog
X-WR-CALDESC:Events for JayceLand
BEGIN:VTIMEZONE
TZID:America/New_York
BEGIN:DAYLIGHT
TZOFFSETFROM:-0500
TZOFFSETTO:-0400
TZNAME:EDT
DTSTART:20170312T070000
END:DAYLIGHT
BEGIN:STANDARD
TZOFFSETFROM:-0400
TZOFFSETTO:-0500
TZNAME:EST
DTSTART:20171105T060000
END:STANDARD
END:VTIMEZONE
BEGIN:VEVENT
DTSTART;TZID=America/New_York:20170507T100000
DTEND;TZID=America/New_York:20170507T115100
DTSTAMP:20210305T060539
CREATED:20170505T142122Z
LAST-MODIFIED:20170505T142122Z
UID:12756-1494151200-1494157860@jayceland.com
SUMMARY:Night and the City screening
DESCRIPTION:The Dryden will screen Night and the City (Jules Dassin\, U.K./U.S. 1950\, 111 min.\, format) as part of the Nitrate Picture Show.  \n"An exciting\, suspenseful melodrama\, . . . the story of a double-crossing heel who finally gets his just desserts. In this role\, Richard Widmark scores a definite hit. And he has excellent support right down the line. Gene Tierney was cast for name value only. Jules Dassin\, in his direction\, manages extraordinarily interesting backgrounds\, realistically filmed to create a feeling both of suspense and mounting menace." — Variety\, December 31\, 1949 \n [source: George Eastman Museum calendar\, 2017-May-5]
URL:https://jayceland.com/blog/event/night-and-the-city-screening/
LOCATION:Dryden Theatre at George Eastman Museum (formerly George Eastman House)\, 900 East Ave.\, Rochester\, New York\, 14607\, United States
CATEGORIES:JayceLand 2017-May-4
END:VEVENT
END:VCALENDAR