BEGIN:VCALENDAR
VERSION:2.0
PRODID:-//JayceLand - ECPv6.15.20//NONSGML v1.0//EN
CALSCALE:GREGORIAN
METHOD:PUBLISH
X-WR-CALNAME:JayceLand
X-ORIGINAL-URL:https://jayceland.com/blog
X-WR-CALDESC:Events for JayceLand
REFRESH-INTERVAL;VALUE=DURATION:PT1H
X-Robots-Tag:noindex
X-PUBLISHED-TTL:PT1H
BEGIN:VTIMEZONE
TZID:America/New_York
BEGIN:DAYLIGHT
TZOFFSETFROM:-0500
TZOFFSETTO:-0400
TZNAME:EDT
DTSTART:20160313T070000
END:DAYLIGHT
BEGIN:STANDARD
TZOFFSETFROM:-0400
TZOFFSETTO:-0500
TZNAME:EST
DTSTART:20161106T060000
END:STANDARD
BEGIN:DAYLIGHT
TZOFFSETFROM:-0500
TZOFFSETTO:-0400
TZNAME:EDT
DTSTART:20170312T070000
END:DAYLIGHT
BEGIN:STANDARD
TZOFFSETFROM:-0400
TZOFFSETTO:-0500
TZNAME:EST
DTSTART:20171105T060000
END:STANDARD
BEGIN:DAYLIGHT
TZOFFSETFROM:-0500
TZOFFSETTO:-0400
TZNAME:EDT
DTSTART:20180311T070000
END:DAYLIGHT
BEGIN:STANDARD
TZOFFSETFROM:-0400
TZOFFSETTO:-0500
TZNAME:EST
DTSTART:20181104T060000
END:STANDARD
END:VTIMEZONE
BEGIN:VEVENT
DTSTART;TZID=America/New_York:20170507T130000
DTEND;TZID=America/New_York:20170507T140000
DTSTAMP:20260424T042515
CREATED:20170503T171138Z
LAST-MODIFIED:20170503T171138Z
UID:12659-1494162000-1494165600@jayceland.com
SUMMARY:Fake Visionary Square: Miming at Parcel 5
DESCRIPTION:An all-ages orchestration of miming what we want to see in the heart of our city\, from artist Ray Ray Mitrano. \n [source: Rochester City Newspaper events calendar\, 2017-May-1]
URL:https://jayceland.com/blog/event/fake-visionary-square-miming-at-parcel-5/
LOCATION:Parcel 5\, 275 E. Main St.\, Rochester\, New York\, 14604\, United States
CATEGORIES:JayceLand 2017-May-4
END:VEVENT
END:VCALENDAR