BEGIN:VCALENDAR
VERSION:2.0
PRODID:-//JayceLand - ECPv6.15.20//NONSGML v1.0//EN
CALSCALE:GREGORIAN
METHOD:PUBLISH
X-WR-CALNAME:JayceLand
X-ORIGINAL-URL:https://jayceland.com/blog
X-WR-CALDESC:Events for JayceLand
REFRESH-INTERVAL;VALUE=DURATION:PT1H
X-Robots-Tag:noindex
X-PUBLISHED-TTL:PT1H
BEGIN:VTIMEZONE
TZID:America/New_York
BEGIN:DAYLIGHT
TZOFFSETFROM:-0500
TZOFFSETTO:-0400
TZNAME:EDT
DTSTART:20160313T070000
END:DAYLIGHT
BEGIN:STANDARD
TZOFFSETFROM:-0400
TZOFFSETTO:-0500
TZNAME:EST
DTSTART:20161106T060000
END:STANDARD
BEGIN:DAYLIGHT
TZOFFSETFROM:-0500
TZOFFSETTO:-0400
TZNAME:EDT
DTSTART:20170312T070000
END:DAYLIGHT
BEGIN:STANDARD
TZOFFSETFROM:-0400
TZOFFSETTO:-0500
TZNAME:EST
DTSTART:20171105T060000
END:STANDARD
BEGIN:DAYLIGHT
TZOFFSETFROM:-0500
TZOFFSETTO:-0400
TZNAME:EDT
DTSTART:20180311T070000
END:DAYLIGHT
BEGIN:STANDARD
TZOFFSETFROM:-0400
TZOFFSETTO:-0500
TZNAME:EST
DTSTART:20181104T060000
END:STANDARD
END:VTIMEZONE
BEGIN:VEVENT
DTSTART;TZID=America/New_York:20170506T163000
DTEND;TZID=America/New_York:20170506T223000
DTSTAMP:20260425T124241
CREATED:20170503T171138Z
LAST-MODIFIED:20170503T171138Z
UID:12667-1494088200-1494109800@jayceland.com
SUMMARY:Druse\, Sulaco\, Phosphorus Rex\, Stress\, Hallucination Realized musical performances
DESCRIPTION:[source: Facebook\, 2017-May-1]
URL:https://jayceland.com/blog/event/druse-sulaco-phosphorus-rex-stress-hallucination-realized-musical-performances/
LOCATION:Genesee Valley Park\, Hawthorne Dr.\, Rochester\, New York\, 14623\, United States
CATEGORIES:JayceLand 2017-May-4
END:VEVENT
END:VCALENDAR