BEGIN:VCALENDAR
VERSION:2.0
PRODID:-//JayceLand - ECPv6.15.20//NONSGML v1.0//EN
CALSCALE:GREGORIAN
METHOD:PUBLISH
X-WR-CALNAME:JayceLand
X-ORIGINAL-URL:https://jayceland.com/blog
X-WR-CALDESC:Events for JayceLand
REFRESH-INTERVAL;VALUE=DURATION:PT1H
X-Robots-Tag:noindex
X-PUBLISHED-TTL:PT1H
BEGIN:VTIMEZONE
TZID:America/New_York
BEGIN:DAYLIGHT
TZOFFSETFROM:-0500
TZOFFSETTO:-0400
TZNAME:EDT
DTSTART:20160313T070000
END:DAYLIGHT
BEGIN:STANDARD
TZOFFSETFROM:-0400
TZOFFSETTO:-0500
TZNAME:EST
DTSTART:20161106T060000
END:STANDARD
BEGIN:DAYLIGHT
TZOFFSETFROM:-0500
TZOFFSETTO:-0400
TZNAME:EDT
DTSTART:20170312T070000
END:DAYLIGHT
BEGIN:STANDARD
TZOFFSETFROM:-0400
TZOFFSETTO:-0500
TZNAME:EST
DTSTART:20171105T060000
END:STANDARD
BEGIN:DAYLIGHT
TZOFFSETFROM:-0500
TZOFFSETTO:-0400
TZNAME:EDT
DTSTART:20180311T070000
END:DAYLIGHT
BEGIN:STANDARD
TZOFFSETFROM:-0400
TZOFFSETTO:-0500
TZNAME:EST
DTSTART:20181104T060000
END:STANDARD
END:VTIMEZONE
BEGIN:VEVENT
DTSTART;TZID=America/New_York:20170505T193000
DTEND;TZID=America/New_York:20170505T213400
DTSTAMP:20260424T121415
CREATED:20170505T142121Z
LAST-MODIFIED:20170505T142121Z
UID:12750-1494012600-1494020040@jayceland.com
SUMMARY:BakushÅ« (Early Summer) screening (2017-May-5 @ 7:30 p.m.)
DESCRIPTION:The Dryden will screen BakushÅ« (Early Summer\, YasujirÅ Ozu\, Japan 1951\, 124 min.) as part of the Nitrate Picture Show.  \n"I was interested in getting much deeper than just the story itself; I wanted to depict the cycles of life\, the transience of life. . . . Consequently\, I didn't force the action\, but tried to leave some spaces unfilled . . . leave viewers with a pleasant aftertaste. For this reason\, Early Summer was one of the most demanding work[s] I've done in years. There was criticism about the children being unruly. In my view\, children and adults have different 'rules.' When they grow up\, they too will change. As for acting\, it's best to leave things unexpressed\, something to ponder or savor. Those who appreciate this have themselves reached a transcendent state. Hara Setsuko is a fine person. If only there were four or five more such persons."  — YasujirÅ Ozu \n [source: George Eastman Museum calendar\, 2017-May-5]
URL:https://jayceland.com/blog/event/bakushu-early-summer-screening-2017-may-5-730-p-m/
LOCATION:Dryden Theatre at George Eastman Museum (formerly George Eastman House)\, 900 East Ave.\, Rochester\, New York\, 14607\, United States
CATEGORIES:JayceLand 2017-May-4
END:VEVENT
END:VCALENDAR