BEGIN:VCALENDAR
VERSION:2.0
PRODID:-//JayceLand - ECPv5.4.0//NONSGML v1.0//EN
CALSCALE:GREGORIAN
METHOD:PUBLISH
X-WR-CALNAME:JayceLand
X-ORIGINAL-URL:https://jayceland.com/blog
X-WR-CALDESC:Events for JayceLand
BEGIN:VTIMEZONE
TZID:America/New_York
BEGIN:DAYLIGHT
TZOFFSETFROM:-0500
TZOFFSETTO:-0400
TZNAME:EDT
DTSTART:20170312T070000
END:DAYLIGHT
BEGIN:STANDARD
TZOFFSETFROM:-0400
TZOFFSETTO:-0500
TZNAME:EST
DTSTART:20171105T060000
END:STANDARD
END:VTIMEZONE
BEGIN:VEVENT
DTSTART;TZID=America/New_York:20170506T093000
DTEND;TZID=America/New_York:20170506T115300
DTSTAMP:20210305T060811
CREATED:20170505T142122Z
LAST-MODIFIED:20170505T142122Z
UID:12752-1494063000-1494071580@jayceland.com
SUMMARY:Anchors Aweigh screening
DESCRIPTION:The Dryden will screen Anchors Aweigh (George Sidney\, U.S. 1945\, 143 min.) as part of the Nitrate Picture Show.  \n"Anchors Aweigh mixes music\, uniforms and Hollywood cut-ups in such a show as only Hollywood could concoct. Gene Kelly is in there dancing superbly in more than one sequence. Frank Sinatra tags along with his largo vocalizing; Jose Iturbi knocks out some fancy boogie-woogie on the piano and Kathryn Grayson alternates between singing mock operatic arias and being cute. Since Isobel Lenart has written some amusing lines for the continuity and Joe Pasternak has produced the show with Technicolor extravagance\, the film is satisfactory summer fare." — Howard Barnes\, New York Herald Tribune\, July 20\, 1945 \n [source: George Eastman Museum calendar\, 2017-May-5]
URL:https://jayceland.com/blog/event/anchors-aweigh-screening/
LOCATION:Dryden Theatre at George Eastman Museum (formerly George Eastman House)\, 900 East Ave.\, Rochester\, New York\, 14607\, United States
CATEGORIES:JayceLand 2017-May-4
END:VEVENT
END:VCALENDAR